BEGIN:VCALENDAR
VERSION:2.0
PRODID:-//One Call - ECPv6.15.20//NONSGML v1.0//EN
CALSCALE:GREGORIAN
METHOD:PUBLISH
X-WR-CALNAME:One Call
X-ORIGINAL-URL:https://onecallcm.com
X-WR-CALDESC:Events for One Call
REFRESH-INTERVAL;VALUE=DURATION:PT1H
X-Robots-Tag:noindex
X-PUBLISHED-TTL:PT1H
BEGIN:VTIMEZONE
TZID:America/Halifax
BEGIN:DAYLIGHT
TZOFFSETFROM:-0400
TZOFFSETTO:-0300
TZNAME:ADT
DTSTART:20250309T060000
END:DAYLIGHT
BEGIN:STANDARD
TZOFFSETFROM:-0300
TZOFFSETTO:-0400
TZNAME:AST
DTSTART:20251102T050000
END:STANDARD
BEGIN:DAYLIGHT
TZOFFSETFROM:-0400
TZOFFSETTO:-0300
TZNAME:ADT
DTSTART:20260308T060000
END:DAYLIGHT
BEGIN:STANDARD
TZOFFSETFROM:-0300
TZOFFSETTO:-0400
TZNAME:AST
DTSTART:20261101T050000
END:STANDARD
BEGIN:DAYLIGHT
TZOFFSETFROM:-0400
TZOFFSETTO:-0300
TZNAME:ADT
DTSTART:20270314T060000
END:DAYLIGHT
BEGIN:STANDARD
TZOFFSETFROM:-0300
TZOFFSETTO:-0400
TZNAME:AST
DTSTART:20271107T050000
END:STANDARD
END:VTIMEZONE
BEGIN:VEVENT
DTSTART;TZID=America/Halifax:20260423T120000
DTEND;TZID=America/Halifax:20260423T140000
DTSTAMP:20260421T095529
CREATED:20260409T181831Z
LAST-MODIFIED:20260415T155241Z
UID:10000002-1776945600-1776952800@onecallcm.com
SUMMARY:CEU: Rise & Rebuild - Integrated Rehab following Transtibial Amputation
DESCRIPTION:This CEU webinar provides a comprehensive overview of transtibial amputation rehabilitation – an interdisciplinary program that coordinates physical therapy\, prosthetic intervention\, and a structured recovery protocol to restore functional independence and improve quality of life. \nDuring this session\, we’ll examine the full rehabilitation pathway – from review of the injured worker’s history and surgical considerations\, early intervention to prepare the residual limb for prosthetic use\, to ongoing physical and occupational therapy to optimize fit alignment and device function. \nREGISTER
URL:https://onecallcm.com/event/rise-rebuild-transtibial-amputation-webinar/
LOCATION:Remote
CATEGORIES:CEU
END:VEVENT
END:VCALENDAR