BEGIN:VCALENDAR
VERSION:2.0
PRODID:-//One Call - ECPv6.15.20//NONSGML v1.0//EN
CALSCALE:GREGORIAN
METHOD:PUBLISH
X-ORIGINAL-URL:https://onecallcm.com
X-WR-CALDESC:Events for One Call
REFRESH-INTERVAL;VALUE=DURATION:PT1H
X-Robots-Tag:noindex
X-PUBLISHED-TTL:PT1H
BEGIN:VTIMEZONE
TZID:America/New_York
BEGIN:DAYLIGHT
TZOFFSETFROM:-0500
TZOFFSETTO:-0400
TZNAME:EDT
DTSTART:20250309T070000
END:DAYLIGHT
BEGIN:STANDARD
TZOFFSETFROM:-0400
TZOFFSETTO:-0500
TZNAME:EST
DTSTART:20251102T060000
END:STANDARD
BEGIN:DAYLIGHT
TZOFFSETFROM:-0500
TZOFFSETTO:-0400
TZNAME:EDT
DTSTART:20260308T070000
END:DAYLIGHT
BEGIN:STANDARD
TZOFFSETFROM:-0400
TZOFFSETTO:-0500
TZNAME:EST
DTSTART:20261101T060000
END:STANDARD
BEGIN:DAYLIGHT
TZOFFSETFROM:-0500
TZOFFSETTO:-0400
TZNAME:EDT
DTSTART:20270314T070000
END:DAYLIGHT
BEGIN:STANDARD
TZOFFSETFROM:-0400
TZOFFSETTO:-0500
TZNAME:EST
DTSTART:20271107T060000
END:STANDARD
END:VTIMEZONE
BEGIN:VEVENT
DTSTART;TZID=America/New_York:20260623T130000
DTEND;TZID=America/New_York:20260623T140000
DTSTAMP:20260423T133826
CREATED:20260422T190303Z
LAST-MODIFIED:20260422T190729Z
UID:10000004-1782219600-1782223200@onecallcm.com
SUMMARY:CEU: Functional Capacity Evaluations
DESCRIPTION:Interpretation\, Credibility\, and Claim Strategy\n\nSpeaker: Christopher P. Scoma\, PT\, DPT\, OCS\, COMT\, CEAS\, CDNT\, OHP\n\nThis course provides insurance adjusters with a clear\, practical understanding of Functional Capacity Evaluations (FCEs) and their role in effective workers’ compensation claim management. Participants will gain insight into how FCEs are conducted\, when their use is most appropriate and how to interpret results to inform return‑to‑work planning\, reserve setting and litigation strategy. The session emphasizes defensible\, appropriate utilization and demonstrates how leveraging FCEs thoughtfully can improve claim efficiency\, support smarter decision‑making and help manage overall costs while keeping recovery outcomes front and center.\n\nREGISTRATION: Coming Soon
URL:https://onecallcm.com/event/ceu-functional-capacity-evaluations/
LOCATION:Remote
CATEGORIES:CEU
ATTACH;FMTTYPE=image/jpeg:https://onecallcm.com/wp-content/uploads/2026/02/OCC-4723_NewWebsite_HeaderImages_UNIVERSITY-scaled-1.jpg
END:VEVENT
END:VCALENDAR