BEGIN:VCALENDAR
VERSION:2.0
PRODID:-//One Call - ECPv6.15.20//NONSGML v1.0//EN
CALSCALE:GREGORIAN
METHOD:PUBLISH
X-ORIGINAL-URL:https://onecallcm.com
X-WR-CALDESC:Events for One Call
REFRESH-INTERVAL;VALUE=DURATION:PT1H
X-Robots-Tag:noindex
X-PUBLISHED-TTL:PT1H
BEGIN:VTIMEZONE
TZID:America/New_York
BEGIN:DAYLIGHT
TZOFFSETFROM:-0500
TZOFFSETTO:-0400
TZNAME:EDT
DTSTART:20250309T070000
END:DAYLIGHT
BEGIN:STANDARD
TZOFFSETFROM:-0400
TZOFFSETTO:-0500
TZNAME:EST
DTSTART:20251102T060000
END:STANDARD
BEGIN:DAYLIGHT
TZOFFSETFROM:-0500
TZOFFSETTO:-0400
TZNAME:EDT
DTSTART:20260308T070000
END:DAYLIGHT
BEGIN:STANDARD
TZOFFSETFROM:-0400
TZOFFSETTO:-0500
TZNAME:EST
DTSTART:20261101T060000
END:STANDARD
BEGIN:DAYLIGHT
TZOFFSETFROM:-0500
TZOFFSETTO:-0400
TZNAME:EDT
DTSTART:20270314T070000
END:DAYLIGHT
BEGIN:STANDARD
TZOFFSETFROM:-0400
TZOFFSETTO:-0500
TZNAME:EST
DTSTART:20271107T060000
END:STANDARD
END:VTIMEZONE
BEGIN:VTIMEZONE
TZID:UTC
BEGIN:STANDARD
TZOFFSETFROM:+0000
TZOFFSETTO:+0000
TZNAME:UTC
DTSTART:20250101T000000
END:STANDARD
END:VTIMEZONE
BEGIN:VEVENT
DTSTART;TZID=America/New_York:20260623T130000
DTEND;TZID=America/New_York:20260623T140000
DTSTAMP:20260423T113033
CREATED:20260422T190303Z
LAST-MODIFIED:20260422T190729Z
UID:10000004-1782219600-1782223200@onecallcm.com
SUMMARY:CEU: Functional Capacity Evaluations
DESCRIPTION:Interpretation\, Credibility\, and Claim Strategy\n\nSpeaker: Christopher P. Scoma\, PT\, DPT\, OCS\, COMT\, CEAS\, CDNT\, OHP\n\nThis course provides insurance adjusters with a clear\, practical understanding of Functional Capacity Evaluations (FCEs) and their role in effective workers’ compensation claim management. Participants will gain insight into how FCEs are conducted\, when their use is most appropriate and how to interpret results to inform return‑to‑work planning\, reserve setting and litigation strategy. The session emphasizes defensible\, appropriate utilization and demonstrates how leveraging FCEs thoughtfully can improve claim efficiency\, support smarter decision‑making and help manage overall costs while keeping recovery outcomes front and center.\n\nREGISTRATION: Coming Soon
URL:https://onecallcm.com/event/ceu-functional-capacity-evaluations/
LOCATION:Remote
CATEGORIES:CEU
ATTACH;FMTTYPE=image/jpeg:https://onecallcm.com/wp-content/uploads/2026/02/OCC-4723_NewWebsite_HeaderImages_UNIVERSITY-scaled-1.jpg
END:VEVENT
BEGIN:VEVENT
DTSTART;VALUE=DATE:20260823
DTEND;VALUE=DATE:20260827
DTSTAMP:20260423T113033
CREATED:20260403T182516Z
LAST-MODIFIED:20260422T191654Z
UID:10000001-1787443200-1787788799@onecallcm.com
SUMMARY:WCI 2026
DESCRIPTION:Join us at WCI 2026\, where the industry comes together around the theme Bold Ideas & Big Impact. This year’s conference spotlights forward‑thinking insights\, powerful conversations and practical strategies shaping the future of workers’ compensation and safety. Be part of the ideas\, innovation and connections that are driving meaningful impact across our industry.
URL:https://onecallcm.com/event/wci-2026/
LOCATION:Orlando\, FL
CATEGORIES:Conference
ATTACH;FMTTYPE=image/jpeg:https://onecallcm.com/wp-content/uploads/2026/04/Awards-scaled-1.jpg
END:VEVENT
BEGIN:VEVENT
DTSTART;VALUE=DATE:20260929
DTEND;VALUE=DATE:20261001
DTSTAMP:20260423T113033
CREATED:20260410T130609Z
LAST-MODIFIED:20260422T191551Z
UID:10000003-1790640000-1790812799@onecallcm.com
SUMMARY:National Comp 2026
DESCRIPTION:Join us at the National Workers’ Compensation & Disability Conference (NWCDC)\, the premier annual gathering for professionals across the workers’ compensation\, disability management and occupational health ecosystem. The event brings together industry leaders\, innovators and decision‑makers for expert‑led education\, timely insights on regulatory and clinical trends and meaningful peer connection. Attendees gain practical strategies\, fresh perspective and the relationships needed to navigate a rapidly evolving industry with confidence. \nREGISTER
URL:https://onecallcm.com/event/national-comp-2026/
LOCATION:Mandalay Bay\, Las Vegas\, NV
CATEGORIES:Conference
ATTACH;FMTTYPE=image/jpeg:https://onecallcm.com/wp-content/uploads/2026/04/Awards-scaled-1.jpg
END:VEVENT
END:VCALENDAR